BEGIN:VCALENDAR
VERSION:2.0
PRODID:-//Squarespace Inc/Squarespace 6//v6//EN
BEGIN:VEVENT
UID:5d71e676873e0f0001bf9cf9@squarespace.com
DTSTAMP:20190906T045628Z
DTSTART:20190907T120000Z
DTEND:20190907T150000Z
SUMMARY:SPRING WELLNESS MORNING
GEO:-31.955511;115.860494
LOCATION:STATE BUILDINGS\, 1 CATHEDRAL AVENUE\, PERTH\, WA\, 6000\, AUSTRAL
 IA
END:VEVENT
END:VCALENDAR
