BEGIN:VCALENDAR
VERSION:2.0
PRODID:-//Squarespace Inc/Squarespace 6//v6//EN
BEGIN:VEVENT
UID:5d71e7ecc5e6b70001853bb3@squarespace.com
DTSTAMP:20190920T075528Z
DTSTART:20191217T003000Z
DTEND:20191217T023000Z
SUMMARY:RESTORATIVE YOGA CHRISTMAS WORKSHOP 
GEO:-32.091937;115.818884
LOCATION:Tamara Yoga\, 22 Gwilliam Drive\, Bibra Lake\, WA\, 6163\, Austral
 ia
END:VEVENT
END:VCALENDAR
