BEGIN:VCALENDAR
VERSION:2.0
PRODID:-//Squarespace Inc/Squarespace 6//v6//EN
BEGIN:VEVENT
UID:5d71e7177c8ced0001e3b994@squarespace.com
DTSTAMP:20190920T075805Z
DTSTART:20191017T230000Z
DTEND:20191108T010000Z
SUMMARY:MEDITATION WORKSHOP
GEO:-31.978829;115.785842
LOCATION:TAMARA YOGA\, 6 GUGERI STREET\, CLAREMONT\, WA\, 6010\, AUSTRALIA
END:VEVENT
END:VCALENDAR
