BEGIN:VCALENDAR
VERSION:2.0
PRODID:-//Squarespace Inc/Squarespace 6//v6//EN
BEGIN:VEVENT
UID:5d8484680a997e4f96a6b8fb@squarespace.com
DTSTAMP:20190925T042015Z
DTSTART:20191102T150000Z
DTEND:20191102T170000Z
SUMMARY:HEADSTAND WORKSHOP
GEO:-31.978829;115.785842
LOCATION:Tamara Yoga\, 6 Gugeri Street\, Claremont\, WA\, 6010\, Australia
END:VEVENT
END:VCALENDAR
