BEGIN:VCALENDAR
VERSION:2.0
PRODID:-//Squarespace Inc/Squarespace 6//v6//EN
BEGIN:VEVENT
UID:5dae8ab645e76364d77af3d8@squarespace.com
DTSTAMP:20191022T045759Z
DTSTART:20191119T000000Z
DTEND:20191119T020000Z
SUMMARY:STRESS LESS WORKSHOP
GEO:-32.00708;115.7591
LOCATION:Remede Wellness\, 13 Glyde Street\, Mosman Park\, Australia
END:VEVENT
END:VCALENDAR
